View In:
ArcGIS JavaScript
ArcGIS Online Map Viewer
ArcGIS Earth
Service Description: multidimensional/outputtest2_crf
Name: multidimensional/outputtest2_crf
Description:
Single Fused Map Cache: false
Extent:
XMin: -20
YMin: 36.50000000000001
XMax: 0
YMax: 60.00000000000001
Spatial Reference: 4326
(4326)
Initial Extent:
XMin: -20
YMin: 36.50000000000001
XMax: 0
YMax: 60.00000000000001
Spatial Reference: 4326
(4326)
Full Extent:
XMin: -20
YMin: 36.50000000000001
XMax: 0
YMax: 60.00000000000001
Spatial Reference: 4326
(4326)
Time Info:
Start Time Field: StdTime
End Time Field: StdTime
Time Extent:
[2022/04/16 21:00:00 UTC, 2022/04/16 21:00:00 UTC]
Time Reference:
N/A
Pixel Size X: 0.025
Pixel Size Y: 0.025
Band Count: 1
Pixel Type: F64
RasterFunction Infos: {"rasterFunctionInfos": [{
"name": "None",
"description": "",
"help": ""
}]}
Mensuration Capabilities: Basic
Inspection Capabilities:
Has Histograms: true
Has Colormap: false
Has Multi Dimensions : true
Rendering Rule:
Min Scale: 0
Max Scale: 0
Copyright Text:
Service Data Type: esriImageServiceDataTypeScientific
Min Values: -609.4065551757812
Max Values: 2382.9599609375
Mean Values: 163.7928439059956
Standard Deviation Values: 155.05728215166624
Object ID Field:
Fields:
None
Default Mosaic Method: Center
Allowed Mosaic Methods:
SortField:
SortValue: null
Mosaic Operator: First
Default Compression Quality: 75
Default Resampling Method: Bilinear
Max Record Count: null
Max Image Height: 4100
Max Image Width: 15000
Max Download Image Count: null
Max Mosaic Image Count: null
Allow Raster Function: true
Allow Copy: true
Allow Analysis: true
Allow Compute TiePoints: false
Supports Statistics: false
Supports Advanced Queries: false
Use StandardizedQueries: true
Raster Type Infos:
Name: Raster Dataset
Description: Supports all ArcGIS Raster Datasets
Help:
Has Raster Attribute Table: false
Edit Fields Info: null
Ownership Based AccessControl For Rasters: null
Child Resources:
Info
Histograms
Statistics
Key Properties
Legend
Raster Function Infos
Multidimensional Info
Slices
Supported Operations:
Export Image
Identify
Measure
Compute Histograms
Compute Statistics Histograms
Get Samples
Compute Class Statistics
Query Boundary
Compute Pixel Location
Compute Angles
Validate
Project